BEGIN:VCALENDAR
VERSION:2.0
PRODID:-//Biggin Hill and District Horticultural Society - ECPv6.15.16//NONSGML v1.0//EN
CALSCALE:GREGORIAN
METHOD:PUBLISH
X-WR-CALNAME:Biggin Hill and District Horticultural Society
X-ORIGINAL-URL:https://bhhs.bigginhillvillage.co.uk
X-WR-CALDESC:Events for Biggin Hill and District Horticultural Society
REFRESH-INTERVAL;VALUE=DURATION:PT1H
X-Robots-Tag:noindex
X-PUBLISHED-TTL:PT1H
BEGIN:VTIMEZONE
TZID:Europe/London
BEGIN:DAYLIGHT
TZOFFSETFROM:+0000
TZOFFSETTO:+0100
TZNAME:BST
DTSTART:20240331T010000
END:DAYLIGHT
BEGIN:STANDARD
TZOFFSETFROM:+0100
TZOFFSETTO:+0000
TZNAME:GMT
DTSTART:20241027T010000
END:STANDARD
BEGIN:DAYLIGHT
TZOFFSETFROM:+0000
TZOFFSETTO:+0100
TZNAME:BST
DTSTART:20250330T010000
END:DAYLIGHT
BEGIN:STANDARD
TZOFFSETFROM:+0100
TZOFFSETTO:+0000
TZNAME:GMT
DTSTART:20251026T010000
END:STANDARD
BEGIN:DAYLIGHT
TZOFFSETFROM:+0000
TZOFFSETTO:+0100
TZNAME:BST
DTSTART:20260329T010000
END:DAYLIGHT
BEGIN:STANDARD
TZOFFSETFROM:+0100
TZOFFSETTO:+0000
TZNAME:GMT
DTSTART:20261025T010000
END:STANDARD
BEGIN:DAYLIGHT
TZOFFSETFROM:+0000
TZOFFSETTO:+0100
TZNAME:BST
DTSTART:20270328T010000
END:DAYLIGHT
BEGIN:STANDARD
TZOFFSETFROM:+0100
TZOFFSETTO:+0000
TZNAME:GMT
DTSTART:20271031T010000
END:STANDARD
END:VTIMEZONE
BEGIN:VEVENT
DTSTART;TZID=Europe/London:20261021T200000
DTEND;TZID=Europe/London:20261021T213000
DTSTAMP:20260421T130407
CREATED:20251031T070021Z
LAST-MODIFIED:20251120T152215Z
UID:521-1792612800-1792618200@bhhs.bigginhillvillage.co.uk
SUMMARY:Gardeners Evening Meeting October
DESCRIPTION:Gardeners Evening Meeting October –  step back in to history with Sir Joseph Banks\,  who sailed with Captain Cook to discover new plants and who made Kew the world’s leading botanical garden. \nSImon Waterfield of Historial Interpretation is well-known for his fascinating tales told to you in character and appropriate costume – so this is a horticultural talk with a difference – not to be missed! \nFor more info on his dramatised tales\, check out Simon’s website Historial Interpretation \nThese Gardeners Evenings are monthly garden society meetings with Biggin Hill Horticultural Society your local friendly gardening club \nAll talks are free to members. \nYou are welcome to attend these gardeners evenings as a non-member (small charge applies) We love growing gardens and friendships\, so do come along and find out for yourself. \nAs your local friendly gardening club\, Biggin Hill Horticultural Society offers more to members than ‘just’ talks. There are always gardening sundries such as plant labels\, plant feed\, and even second-hand gardening books\, for sale at our gardeners evenings. And you can ask members for tips as there’s generally someone who knows the answer to your question.
URL:https://bhhs.bigginhillvillage.co.uk/event/gardeners-evening-meeting-october/
LOCATION:St Mark’s Church Hall\, Church Road\, Biggin Hill\, Kent\, TN16 3LB\, United Kingdom
CATEGORIES:Evening Meetings
ATTACH;FMTTYPE=image/jpeg:https://bhhs.bigginhillvillage.co.uk/wp-content/uploads/2025/10/Sir_Joseph_Banks_President_Royal_Society_1743_-_1820_Naturalist_Lived_Here.jpg
END:VEVENT
BEGIN:VEVENT
DTSTART;TZID=Europe/London:20260919T150000
DTEND;TZID=Europe/London:20260919T170000
DTSTAMP:20260421T130407
CREATED:20241106T190343Z
LAST-MODIFIED:20251031T081200Z
UID:461-1789830000-1789837200@bhhs.bigginhillvillage.co.uk
SUMMARY:Autumn Flower Show 2026
DESCRIPTION:Biggin Hill Horticultural Society’s Autumn Flower Show 2026 will be filled with  fragrance from sweet peas\, roses and other summer blooms. Plus seasonal veggies to compare withthe ones in your own garden. \nAll entries are to be staged between 8:30am and 11:45am on the morning of the Show. Judging starts at noon. They are not to be removed until after the Prize Presentation in the afternoon. \nFor tips on How to exhibit at shows please check out the Show section on the website\, including Show Rules \nNB afternoon viewing is public and free. \nRefreshments – tea\, coffee\, homemade cake\, all served with a smile \nAn opportunity to see what flowers and veggies grow well in our local area. Admire and be amazed by the floral displays – there’s quite a wow factor! Be impressed by the children’s classes – our next generation of gardeners and horticulturists do us proud. \nGarden sundries sales table (replace those holey gardening gloves) \nAnd a raffle (of course) \nPlus the chance to chat about gardens\, gardening in between mouthfuls of delicious cake \nOur Autumn  Show sponsor tbc \nBiggin Hill & District Horticultural Society is affiliated to:\nThe Royal Horticultural Society \nThe National Dahlia Society \nThe Daffodil Society \nThe National Vegetable Society \nThe Kent Federation of Horticultural Societies
URL:https://bhhs.bigginhillvillage.co.uk/event/autumn-flower-show-2026/
LOCATION:St Mark’s Church Hall\, Church Road\, Biggin Hill\, Kent\, TN16 3LB\, United Kingdom
CATEGORIES:Flower Shows
ATTACH;FMTTYPE=image/jpeg:https://bhhs.bigginhillvillage.co.uk/wp-content/uploads/2025/08/Ball-Dahlias.jpg
END:VEVENT
BEGIN:VEVENT
DTSTART;TZID=Europe/London:20260916T200000
DTEND;TZID=Europe/London:20260916T213000
DTSTAMP:20260421T130407
CREATED:20250807T103546Z
LAST-MODIFIED:20251120T152641Z
UID:591-1789588800-1789594200@bhhs.bigginhillvillage.co.uk
SUMMARY:Gardeners Evening Meeting September
DESCRIPTION:Gardeners Evening Meeting September – a crunchy talk from Neil Franklin about the Apples of Brogdale and their Care. \nBrogdale in Kent  is where you’ll find the National Fruit Collection \nThese Gardeners Evenings are monthly garden society meetings with Biggin Hill Horticultural Society your local friendly gardening club \nAll talks are free to members. \nYou are welcome to attend these gardeners evenings as a non-member (small charge applies) We love growing gardens and friendships\, so do come along and find out for yourself. \nAs your local friendly gardening club\, Biggin Hill Horticultural Society offers more to members than ‘just’ talks. There are always gardening sundries such as plant labels\, plant feed\, and even second-hand gardening books\, for sale at our gardeners evenings. And you can ask members for tips as there’s generally someone who knows the answer to your question.
URL:https://bhhs.bigginhillvillage.co.uk/event/gardeners-evening-meeting-september/
LOCATION:St Mark’s Church Hall\, Church Road\, Biggin Hill\, Kent\, TN16 3LB\, United Kingdom
CATEGORIES:Evening Meetings
ATTACH;FMTTYPE=image/jpeg:https://bhhs.bigginhillvillage.co.uk/wp-content/uploads/2025/11/bramley-seedling-apple-FB-1.jpg
END:VEVENT
BEGIN:VEVENT
DTSTART;TZID=Europe/London:20260819T200000
DTEND;TZID=Europe/London:20260819T213000
DTSTAMP:20260421T130407
CREATED:20251031T063124Z
LAST-MODIFIED:20251120T152356Z
UID:524-1787169600-1787175000@bhhs.bigginhillvillage.co.uk
SUMMARY:Gardeners Evening Meeting August
DESCRIPTION:Gardeners Evening Meeting August – \nHerbs and Herb Gardening with Marie Shallcross – whether you’d like to grow herbs for the kitchen\, your pets\, pollinators\, their health benefits or even for historical interest or because you’d like to make a collection of your favourites\, Marie will bring along some of her many herbs to illustrate  her tips\, ideas and anecdotes – and some herbs for sale too! \nFor more on Marie’s gardening talks\, garden lessons and designs check out her website Plews Garden Design and for her local workshops\, there’s an advert in Biggin Hill Horticultural Society’s Schedule 🙂 \nThese Gardeners Evenings are monthly garden society meetings with Biggin Hill Horticultural Society your local friendly gardening club \nAll talks are free to members. \nYou are welcome to attend these gardeners evenings as a non-member (small charge applies) We love growing gardens and friendships\, so do come along and find out for yourself. \nAs your local friendly gardening club\, Biggin Hill Horticultural Society offers more to members than ‘just’ talks. There are always gardening sundries such as plant labels\, plant feed\, and even second-hand gardening books\, for sale at our gardeners evenings. And you can ask members for tips as there’s generally someone who knows the answer to your question.
URL:https://bhhs.bigginhillvillage.co.uk/event/gardeners-evening-meeting-august/
LOCATION:St Mark’s Church Hall\, Church Road\, Biggin Hill\, Kent\, TN16 3LB\, United Kingdom
CATEGORIES:Evening Meetings
ATTACH;FMTTYPE=image/jpeg:https://bhhs.bigginhillvillage.co.uk/wp-content/uploads/2025/10/herbs-talk-Marie.jpg
END:VEVENT
BEGIN:VEVENT
DTSTART;TZID=Europe/London:20260715T200000
DTEND;TZID=Europe/London:20260715T213000
DTSTAMP:20260421T130407
CREATED:20250304T182422Z
LAST-MODIFIED:20251120T152827Z
UID:519-1784145600-1784151000@bhhs.bigginhillvillage.co.uk
SUMMARY:Gardeners Evening Meeting July
DESCRIPTION:Gardeners Evening Meeting July is a fragrant dleight as Neil Miller shows us the Famous Roses of Hever Castle. (I’m hoping he brings along a couple to sniff) \nThese Gardeners Evenings are monthly garden society meetings with Biggin Hill Horticultural Society your local friendly gardening club \nAll talks are free to members. \nYou are welcome to attend these gardeners evenings as a non-member (small charge applies) We love growing gardens and friendships\, so do come along and find out for yourself. \nAs your local friendly gardening club\, Biggin Hill Horticultural Society offers more to members than ‘just’ talks. There are always gardening sundries such as plant labels\, plant feed\, and even second-hand gardening books\, for sale at our gardeners evenings. And you can ask members for tips as there’s generally someone who knows the answer to your question.
URL:https://bhhs.bigginhillvillage.co.uk/event/gardeners-evening-meeting-july/
LOCATION:Kent
CATEGORIES:Evening Meetings
ATTACH;FMTTYPE=image/jpeg:https://bhhs.bigginhillvillage.co.uk/wp-content/uploads/2025/11/Rosa-Grande-Amore.jpg
END:VEVENT
BEGIN:VEVENT
DTSTART;TZID=Europe/London:20260711T150000
DTEND;TZID=Europe/London:20260711T170000
DTSTAMP:20260421T130407
CREATED:20241106T185252Z
LAST-MODIFIED:20251031T081007Z
UID:459-1783782000-1783789200@bhhs.bigginhillvillage.co.uk
SUMMARY:Summer Show 2026
DESCRIPTION:Biggin Hill Horticultural Society’s Summer Show 2026 will be filled with  fragrance from sweet peas\, roses and other summer blooms. Plus seasonal veggies to compare withthe ones in your own garden. \nAll entries are to be staged between 8:30am and 11:45am on the morning of the Show. Judging starts at noon. They are not to be removed until after the Prize Presentation in the afternoon. \nFor tips on How to exhibit at shows please check out the Show section on the website\, including Show Rules \nNB afternoon viewing is public and free. \nRefreshments – tea\, coffee\, homemade cake\, all served with a smile \nAn opportunity to see what flowers and veggies grow well in our local area. Admire and be amazed by the floral displays – there’s quite a wow factor! Be impressed by the children’s classes – our next generation of gardeners and horticulturists do us proud. \nGarden sundries sales table (replace those holey gardening gloves) \nAnd a raffle (of course) \nPlus the chance to chat about gardens\, gardening in between mouthfuls of delicious cake \nBiggin Hill & District Horticultural Society is affiliated to:\nThe Royal Horticultural Society \nThe National Dahlia Society \nThe Daffodil Society \nThe National Vegetable Society \nThe Kent Federation of Horticultural Societies
URL:https://bhhs.bigginhillvillage.co.uk/event/summer-show-2026/
LOCATION:St Mark’s Church Hall\, Church Road\, Biggin Hill\, Kent\, TN16 3LB\, United Kingdom
CATEGORIES:Flower Shows
ATTACH;FMTTYPE=image/jpeg:https://bhhs.bigginhillvillage.co.uk/wp-content/uploads/2024/03/B-H-Hort-Soc-flower-show-8-July-23-FB-6.jpg
END:VEVENT
BEGIN:VEVENT
DTSTART;TZID=Europe/London:20260617T200000
DTEND;TZID=Europe/London:20260617T213000
DTSTAMP:20260421T130407
CREATED:20250304T180824Z
LAST-MODIFIED:20251120T152834Z
UID:515-1781726400-1781731800@bhhs.bigginhillvillage.co.uk
SUMMARY:Gardeners Evening Meeting June
DESCRIPTION:Gardeners Evening Meeting June with Kevin Tooher exlaing the Rights and Wrongs of pruning to us. \nThese Gardeners Evenings are monthly garden society meetings with Biggin Hill Horticultural Society your local friendly gardening club \nAll talks are free to members. \nYou are welcome to attend these gardeners evenings as a non-member (small charge applies) We love growing gardens and friendships\, so do come along and find out for yourself. \nAs your local friendly gardening club\, Biggin Hill Horticultural Society offers more to members than ‘just’ talks. There are always gardening sundries such as plant labels\, plant feed\, and even second-hand gardening books\, for sale at our gardeners evenings. And you can ask members for tips as there’s generally someone who knows the answer to your question.
URL:https://bhhs.bigginhillvillage.co.uk/event/gardeners-evening-meeting-june/
LOCATION:Kent
CATEGORIES:Evening Meetings
ATTACH;FMTTYPE=image/png:https://bhhs.bigginhillvillage.co.uk/wp-content/uploads/2024/11/BHHS-logo-frame.png
END:VEVENT
BEGIN:VEVENT
DTSTART;TZID=Europe/London:20260520T200000
DTEND;TZID=Europe/London:20260520T213000
DTSTAMP:20260421T130407
CREATED:20241106T192831Z
LAST-MODIFIED:20251120T152904Z
UID:469-1779307200-1779312600@bhhs.bigginhillvillage.co.uk
SUMMARY:Gardeners Evening Meeting May
DESCRIPTION:In  the Gardeners Evening Meeting May we creep about in the dark to discover Nocturnal Creatues visiting our Parks and Gardens with Dr Iain Boulton \nThese Gardeners Evenings are monthly garden society meetings with Biggin Hill Horticultural Society your local friendly gardening club \nAll talks are free to members. \nYou are welcome to attend these gardeners evenings as a non-member (small charge applies) We love growing gardens and friendships\, so do come along and find out for yourself. \nAs your local friendly gardening club\, Biggin Hill Horticultural Society offers more to members than ‘just’ talks. There are always gardening sundries such as plant labels\, plant feed\, and even second-hand gardening books\, for sale at our gardeners evenings. And you can ask members for tips as there’s generally someone who knows the answer to your question.
URL:https://bhhs.bigginhillvillage.co.uk/event/gardeners-evening-meeting-may/
LOCATION:St Mark’s Church Hall\, Church Road\, Biggin Hill\, Kent\, TN16 3LB\, United Kingdom
CATEGORIES:Evening Meetings
ATTACH;FMTTYPE=image/png:https://bhhs.bigginhillvillage.co.uk/wp-content/uploads/2024/11/BHHS-logo-frame.png
END:VEVENT
BEGIN:VEVENT
DTSTART;TZID=Europe/London:20260516T100000
DTEND;TZID=Europe/London:20260516T120000
DTSTAMP:20260421T130407
CREATED:20250304T181918Z
LAST-MODIFIED:20251031T081320Z
UID:517-1778925600-1778932800@bhhs.bigginhillvillage.co.uk
SUMMARY:Plant Sale 2026
DESCRIPTION:Plant Sale 2026 – our popular annual event provides an opportunity to snap up some bargains\, buy your bedding plants\, herbaceous perennnials and more! \nThere will also be Carniverous Plants for sale  – eco friendly fly catching in your greenhouse perhaps? \nPlus Biggin Hill Horticultural Society’s Committee will be there to help with your gardening queries. \nAnd the trade table with twine\, garden gloves and other sundries that you keep losing in the compost bin \nMembers’ entry at 10am\, general public entry at 10.30am \nThe Plant Sale closes at 12 noon
URL:https://bhhs.bigginhillvillage.co.uk/event/plant-sale-2026/
LOCATION:Kent
CATEGORIES:Plant Sale, Seed Swop
ATTACH;FMTTYPE=image/jpeg:https://bhhs.bigginhillvillage.co.uk/wp-content/uploads/2024/03/B-H-Hort-Soc-flower-show-8-July-23-FB-9.jpg
END:VEVENT
BEGIN:VEVENT
DTSTART;TZID=Europe/London:20260415T200000
DTEND;TZID=Europe/London:20260415T220000
DTSTAMP:20260421T130407
CREATED:20241106T192201Z
LAST-MODIFIED:20251120T151106Z
UID:467-1776283200-1776290400@bhhs.bigginhillvillage.co.uk
SUMMARY:Gardeners Evening Meeting April
DESCRIPTION:Gardeners Evening Meeting April has our local expert grower Bryan Everest sharing his years of practical experience of growing and showing Dahlias. And he has a great sense of humour too so it will be a fun as well as educational evening! \nThese Gardeners Evenings are monthly garden society meetings with Biggin Hill Horticultural Society your local friendly gardening club \nAll talks are free to members. \nYou are welcome to attend these gardeners evenings as a non-member (small charge applies) We love growing gardens and friendships\, so do come along and find out for yourself. \nAs your local friendly gardening club\, Biggin Hill Horticultural Society offers more to members than ‘just’ talks. There are always gardening sundries such as plant labels\, plant feed\, and even second-hand gardening books\, for sale at our gardeners evenings. And you can ask members for tips as there’s generally someone who knows the answer to your question.
URL:https://bhhs.bigginhillvillage.co.uk/event/gardeners-evening-meeting-april/
LOCATION:St Mark’s Church Hall\, Church Road\, Biggin Hill\, Kent\, TN16 3LB\, United Kingdom
CATEGORIES:Evening Meetings
ATTACH;FMTTYPE=image/jpeg:https://bhhs.bigginhillvillage.co.uk/wp-content/uploads/2025/08/Fimbriated-Dahlias.jpg
END:VEVENT
BEGIN:VEVENT
DTSTART;TZID=Europe/London:20260328T150000
DTEND;TZID=Europe/London:20260328T170000
DTSTAMP:20260421T130407
CREATED:20241106T184412Z
LAST-MODIFIED:20251031T080822Z
UID:455-1774710000-1774717200@bhhs.bigginhillvillage.co.uk
SUMMARY:Spring Show 2026
DESCRIPTION:The Spring Show 2026 is the first big event of Biggin Hill Horticultural Society’s calendar.  Your local Gardening Club is a friendly and supportive place to begin the adventure of showing off those daffodils you ‘ve looked after since the autumn. \nPlease note that this year the date is earlier than usual as Easter is early \nAll entries are to be staged between 8:30am and 11:45am on the morning of the Show. Judging starts at noon. They are not to be removed until after the Prize Presentation in the afternoon. \nFor tips on How to exhibit at shows please check out the Show section on the website\, including Show Rules \nNB afternoon viewing is public and free. \nRefreshments – tea\, coffee\, homemade cake\, all served with a smile \nAn opportunity to see what flowers and veggies grow well in our local area. Admire and be amazed by the floral displays – there’s quite a wow factor! Be impressed by the children’s classes – our next generation of gardeners and horticulturists do us proud. \nGarden sundries sales table (replace those holey gardening gloves) \nAnd a raffle (of course) \nPlus the chance to chat about gardens\, gardening in between mouthfuls of delicious cake \nBiggin Hill & District Horticultural Society is affiliated to:\nThe Royal Horticultural Society \nThe National Dahlia Society \nThe Daffodil Society \nThe National Vegetable Society \nThe Kent Federation of Horticultural Societies
URL:https://bhhs.bigginhillvillage.co.uk/event/spring-show-2026/
LOCATION:St Mark’s Church Hall\, Church Road\, Biggin Hill\, Kent\, TN16 3LB\, United Kingdom
CATEGORIES:Flower Shows
ATTACH;FMTTYPE=image/jpeg:https://bhhs.bigginhillvillage.co.uk/wp-content/uploads/2024/03/spring-show-2023-2.jpg
END:VEVENT
BEGIN:VEVENT
DTSTART;TZID=Europe/London:20260318T200000
DTEND;TZID=Europe/London:20260318T220000
DTSTAMP:20260421T130407
CREATED:20241031T061244Z
LAST-MODIFIED:20251120T151333Z
UID:463-1773864000-1773871200@bhhs.bigginhillvillage.co.uk
SUMMARY:Gardeners Evening Meeting March
DESCRIPTION:Gardeners Evening Meeting March is all about The Modern Kitchen Garden. Barry Newman is an expert veggie grower with years of practical experience as a well-known grower\, exhibitor\, lecturer\, judge and keen allotmenteer. \nHe is a member of the Royal Horticultural Society’s Fruit\, Vegetable and Herb Expert Group and a former Chairman of the National Vegetable Society. \nThese Gardeners Evenings are monthly garden society meetings with Biggin Hill Horticultural Society your local friendly gardening club \nAll talks are free to members. \nYou are welcome to attend these gardeners evenings as a non-member (small charge applies) We love growing gardens and friendships\, so do come along and find out for yourself. \nAs your local friendly gardening club\, Biggin Hill Horticultural Society offers more to members than ‘just’ talks. There are always gardening sundries such as plant labels\, plant feed\, and even second-hand gardening books\, for sale at our gardeners evenings. And you can ask members for tips as there’s generally someone who knows the answer to your question.
URL:https://bhhs.bigginhillvillage.co.uk/event/gardeners-evening-meeting-march/
LOCATION:St Mark’s Church Hall\, Church Road\, Biggin Hill\, Kent\, TN16 3LB\, United Kingdom
CATEGORIES:Evening Meetings
ATTACH;FMTTYPE=image/jpeg:https://bhhs.bigginhillvillage.co.uk/wp-content/uploads/2024/03/B-H-Hort-Soc-flower-show-8-July-23-FB-3.jpg
END:VEVENT
BEGIN:VEVENT
DTSTART;TZID=Europe/London:20260221T103000
DTEND;TZID=Europe/London:20260221T123000
DTSTAMP:20260421T130407
CREATED:20251031T083006Z
LAST-MODIFIED:20260110T184115Z
UID:655-1771669800-1771677000@bhhs.bigginhillvillage.co.uk
SUMMARY:Seed Swop 2026 Biggin Hill
DESCRIPTION:Seed Swop 2026 also includes seedlings\, summer flowering bulbs\, onion sets\, seedlings . \nBring along what you have to swop for something you’d like – and if you don’t have enough for swopping\, you can still go home with seeds \nFull details on how it works and what to bring\, please check the Seed Swap page! \nPlus there will be help on hand and short demonstrations from your friendly Biggin Hill Horticultural Society committee for gettting those seeds to germinate and grow!
URL:https://bhhs.bigginhillvillage.co.uk/event/seed-swop-2026-biggin-hill/
LOCATION:St Mark’s Church Hall\, Church Road\, Biggin Hill\, Kent\, TN16 3LB\, United Kingdom
CATEGORIES:Plant Sale, Seed Swop
ATTACH;FMTTYPE=image/jpeg:https://bhhs.bigginhillvillage.co.uk/wp-content/uploads/2026/01/Seed-Swap-2026-Poster.jpg
END:VEVENT
BEGIN:VEVENT
DTSTART;TZID=Europe/London:20251118T200000
DTEND;TZID=Europe/London:20251118T213000
DTSTAMP:20260421T130407
CREATED:20250807T163741Z
LAST-MODIFIED:20251120T152349Z
UID:432-1763496000-1763501400@bhhs.bigginhillvillage.co.uk
SUMMARY:Social & AGM 2026
DESCRIPTION:Biggin Hill Horticultural Society’s AGM and yearly Social event with cookery demo and tasting from one of our favourite judges and cookery guru\, Gina Sheehan. \nThe Gardening Club Social & AGM gives members an opportunity to have their say\, give suggestions and offers of help. And of course to say thank you to the committee\, show judges\, speakers and many helpers who have made it a good year for gardeners in Biggin Hill. We whizz through the essentials and then enjoy good company\, drinks & nibbles and a raffle. The Cookery demo with opportunities to taste the results and take recipes to try at home is a popular part of the evening. \nThe Trade Table will be there as usual at our meetings\, with plants\, spring flowering bulbs\, gardening books and sundries for you to purchase \nThis annual event is free for Members. \nProspective members and non-members are more than welcome to join us for £3. \nAs your local friendly gardening club\, Biggin Hill Horticultural Society offers more to members than ‘just’ talks. There are always gardening sundries such as plant labels\, plant feed\, and even second-hand gardening books\, for sale at our gardeners evenings. And you can ask members for tips as there’s generally someone who knows the answer to your question. \nAnd you can always contact us by email
URL:https://bhhs.bigginhillvillage.co.uk/event/social-agm-2025/
LOCATION:St Mark’s Church Hall\, Church Road\, Biggin Hill\, Kent\, TN16 3LB\, United Kingdom
CATEGORIES:Evening Meetings
ATTACH;FMTTYPE=image/jpeg:https://bhhs.bigginhillvillage.co.uk/wp-content/uploads/2024/11/BHHS-logo-frame.jpg
END:VEVENT
END:VCALENDAR